BEGIN:VCALENDAR
VERSION:2.0
PRODID:-//FONDATION JIA FOUNDATION - ECPv6.15.20//NONSGML v1.0//EN
CALSCALE:GREGORIAN
METHOD:PUBLISH
X-ORIGINAL-URL:https://jiafoundationmtl.org
X-WR-CALDESC:Events for FONDATION JIA FOUNDATION
REFRESH-INTERVAL;VALUE=DURATION:PT1H
X-Robots-Tag:noindex
X-PUBLISHED-TTL:PT1H
BEGIN:VTIMEZONE
TZID:America/Toronto
BEGIN:DAYLIGHT
TZOFFSETFROM:-0500
TZOFFSETTO:-0400
TZNAME:EDT
DTSTART:20230312T070000
END:DAYLIGHT
BEGIN:STANDARD
TZOFFSETFROM:-0400
TZOFFSETTO:-0500
TZNAME:EST
DTSTART:20231105T060000
END:STANDARD
BEGIN:DAYLIGHT
TZOFFSETFROM:-0500
TZOFFSETTO:-0400
TZNAME:EDT
DTSTART:20240310T070000
END:DAYLIGHT
BEGIN:STANDARD
TZOFFSETFROM:-0400
TZOFFSETTO:-0500
TZNAME:EST
DTSTART:20241103T060000
END:STANDARD
BEGIN:DAYLIGHT
TZOFFSETFROM:-0500
TZOFFSETTO:-0400
TZNAME:EDT
DTSTART:20250309T070000
END:DAYLIGHT
BEGIN:STANDARD
TZOFFSETFROM:-0400
TZOFFSETTO:-0500
TZNAME:EST
DTSTART:20251102T060000
END:STANDARD
END:VTIMEZONE
BEGIN:VEVENT
DTSTART;TZID=America/Toronto:20241201T100000
DTEND;TZID=America/Toronto:20241201T140000
DTSTAMP:20260424T081554
CREATED:20241128T191951Z
LAST-MODIFIED:20241129T041229Z
UID:2805-1733047200-1733061600@jiafoundationmtl.org
SUMMARY:OPEN HOUSE - Clark Street Reimagined
DESCRIPTION:欢迎参加我们的开放日，一起塑造蒙特利尔唐人街的未来！看看两年来社区引导的规划设计，如何将克拉克街改造成一个充满活力、适宜人居的街区。我们将这条利用率低的街道转变为活跃的社区空间。快来参观设计展览，并与我们分享您的想法！ \n\n\n\nJoin us at our OPEN HOUSE and help shape the future of Montreal’s Chinatown! Discover two years of community-led planning to transform Clark Street into a lively\, human-scale neighborhood. We’re turning this underutilized street into a vibrant community space. Come and explore the design exhibition and share your thoughts with us! \n\n\n\n————Projet réalisé par JIA Foundation / Fondation JIA en partenariat avec le Comité logement Ville-Marie et la Table de concertation du faubourg Saint-Laurent
URL:https://jiafoundationmtl.org/event/open-house-clark-street-reimagined/
LOCATION:Chinese Family Services Building\, 1st Floor\, 1088 rue Clark\, Montréal\, Québec\, H2Z1K2\, Canada
CATEGORIES:Consultation
ATTACH;FMTTYPE=image/jpeg:https://jiafoundationmtl.org/wp-content/uploads/clark-street-dec-1-IG.jpg
END:VEVENT
BEGIN:VEVENT
DTSTART;TZID=America/Toronto:20241205T163000
DTEND;TZID=America/Toronto:20241205T180000
DTSTAMP:20260424T081554
CREATED:20241129T040943Z
LAST-MODIFIED:20241129T041110Z
UID:2818-1733416200-1733421600@jiafoundationmtl.org
SUMMARY:Forgotten Sanctuary: Archival photographs of Montreal's Chinatown
DESCRIPTION:What did the Chinatown of years past look like? What forces shaped its change and decline over the decades? Join Parker Mah for an informal talk and viewing session in which participants will be privy to archival and family photographs from both institutional and personal collections\, some never before seen\, that tell the story of daily life in a bygone Chinatown. \n\n\n\nParker Mah 馬世聰 is a fourth-generation Chinese Montrealer of Toisanese descent\, based in Tio’tia:ke. Artist and community organizer\, he also acted as curator and artistic director for two major site-based Chinatown exhibitions produced by the MEM.
URL:https://jiafoundationmtl.org/event/forgotten-sanctuary-archival-photographs-of-montreals-chinatown/
LOCATION:Université de Montréal – CETASE – Salle Robert Garry 420-14 (4th floor)\, Pavillon 3744 Jean-Brillant\, Montreal\, Quebec\, H3T 1P1\, Canada
CATEGORIES:Chinatown House,Lecture
ATTACH;FMTTYPE=image/jpeg:https://jiafoundationmtl.org/wp-content/uploads/UdeM-Poster-3-IMG_8924-Resized.jpg
END:VEVENT
END:VCALENDAR