BEGIN:VCALENDAR
VERSION:2.0
PRODID:-//FONDATION JIA FOUNDATION - ECPv6.15.20//NONSGML v1.0//EN
CALSCALE:GREGORIAN
METHOD:PUBLISH
X-WR-CALNAME:FONDATION JIA FOUNDATION
X-ORIGINAL-URL:https://jiafoundationmtl.org
X-WR-CALDESC:Events for FONDATION JIA FOUNDATION
REFRESH-INTERVAL;VALUE=DURATION:PT1H
X-Robots-Tag:noindex
X-PUBLISHED-TTL:PT1H
BEGIN:VTIMEZONE
TZID:America/Toronto
BEGIN:DAYLIGHT
TZOFFSETFROM:-0500
TZOFFSETTO:-0400
TZNAME:EDT
DTSTART:20240310T070000
END:DAYLIGHT
BEGIN:STANDARD
TZOFFSETFROM:-0400
TZOFFSETTO:-0500
TZNAME:EST
DTSTART:20241103T060000
END:STANDARD
BEGIN:DAYLIGHT
TZOFFSETFROM:-0500
TZOFFSETTO:-0400
TZNAME:EDT
DTSTART:20250309T070000
END:DAYLIGHT
BEGIN:STANDARD
TZOFFSETFROM:-0400
TZOFFSETTO:-0500
TZNAME:EST
DTSTART:20251102T060000
END:STANDARD
BEGIN:DAYLIGHT
TZOFFSETFROM:-0500
TZOFFSETTO:-0400
TZNAME:EDT
DTSTART:20260308T070000
END:DAYLIGHT
BEGIN:STANDARD
TZOFFSETFROM:-0400
TZOFFSETTO:-0500
TZNAME:EST
DTSTART:20261101T060000
END:STANDARD
END:VTIMEZONE
BEGIN:VEVENT
DTSTART;TZID=America/Toronto:20250116T170000
DTEND;TZID=America/Toronto:20250319T190000
DTSTAMP:20260424T065515
CREATED:20241129T041926Z
LAST-MODIFIED:20250124T062240Z
UID:2825-1737046800-1742410800@jiafoundationmtl.org
SUMMARY:Launch: Placemaking & Placekeeping in Montreal's Chinatown: Perception\, Storytelling and Community Organizing
DESCRIPTION:For over a century\, diasporic communities in Chinatown have fought the tides of erasure by building a constellation of rafts in all manner of forms: Clan Associations\, dance troupes\, shelters\, Cantonese opera performances\, language schools\, seniors’ homes\, temples\, restaurants\, and more. This exhibition builds upon the inaugural year of the JIA Foundation’s community advocacy\, festivals\, art\, and storytelling\, done alongside the Chinatown Reimagined Forum’s three days of sharing and mobilization. This year’s lecture and exhibition series aims to build bridges between grassroots organizations and academic communities\, creating a platform for discussion on the evolving movements and future possibilities for Chinatown. \n\n\n\nLaunch event: January 16th at 5pm.
URL:https://jiafoundationmtl.org/event/launch-placemaking-placekeeping-in-montreals-chinatown-perception-storytelling-and-community-organizing/
LOCATION:Marius Barbeau Gallery\, C-2081/83\, Pavillon Lionel-Groulx\, 3150 Jean-Brillant\, Montreal\, Quebec\, H3T1N8\, Canada
CATEGORIES:Chinatown House,Exhibition,Launch
ATTACH;FMTTYPE=image/jpeg:https://jiafoundationmtl.org/wp-content/uploads/POSTER-8X11-UdeM-Expo-scaled.jpg
END:VEVENT
END:VCALENDAR