BEGIN:VCALENDAR
VERSION:2.0
PRODID:-//FONDATION JIA FOUNDATION - ECPv6.15.20//NONSGML v1.0//EN
CALSCALE:GREGORIAN
METHOD:PUBLISH
X-ORIGINAL-URL:https://jiafoundationmtl.org
X-WR-CALDESC:Events for FONDATION JIA FOUNDATION
REFRESH-INTERVAL;VALUE=DURATION:PT1H
X-Robots-Tag:noindex
X-PUBLISHED-TTL:PT1H
BEGIN:VTIMEZONE
TZID:America/Toronto
BEGIN:DAYLIGHT
TZOFFSETFROM:-0500
TZOFFSETTO:-0400
TZNAME:EDT
DTSTART:20240310T070000
END:DAYLIGHT
BEGIN:STANDARD
TZOFFSETFROM:-0400
TZOFFSETTO:-0500
TZNAME:EST
DTSTART:20241103T060000
END:STANDARD
BEGIN:DAYLIGHT
TZOFFSETFROM:-0500
TZOFFSETTO:-0400
TZNAME:EDT
DTSTART:20250309T070000
END:DAYLIGHT
BEGIN:STANDARD
TZOFFSETFROM:-0400
TZOFFSETTO:-0500
TZNAME:EST
DTSTART:20251102T060000
END:STANDARD
BEGIN:DAYLIGHT
TZOFFSETFROM:-0500
TZOFFSETTO:-0400
TZNAME:EDT
DTSTART:20260308T070000
END:DAYLIGHT
BEGIN:STANDARD
TZOFFSETFROM:-0400
TZOFFSETTO:-0500
TZNAME:EST
DTSTART:20261101T060000
END:STANDARD
END:VTIMEZONE
BEGIN:VEVENT
DTSTART;TZID=America/Toronto:20250330T110000
DTEND;TZID=America/Toronto:20250831T160000
DTSTAMP:20260419T190846
CREATED:20250327T062837Z
LAST-MODIFIED:20250327T194326Z
UID:2980-1743332400-1756656000@jiafoundationmtl.org
SUMMARY:Maison Yep-Riopel Exhibition Launch
DESCRIPTION:The JIA Foundation is inviting you to its first exhibition at the new Chinatown House space starting this Sunday\, March 30\, 2025.  \n\n\n\n“Yep-Riopel House: A Layered History of Resistance and Belonging”\, curated by Karen Cho\, tells an incredible story of the building that the JIA Foundation now calls home. JIA moved into the ground floor of this heritage building in January 2025 and has since started its cultural programs and community organizing here\, at the heart of historic Chinatown.   \n\n\n\nThis exhibition is free of charge and will be open to the public 3 days a week: Fridays through Sundays\, 11 AM to 4 PM\, from April until September.
URL:https://jiafoundationmtl.org/event/maison-yep-riopel-exhibition-launch/
LOCATION:CHINATOWN HOUSE – 116 de la Gauchetière Ouest\, 1st floor\, 116 de la Gauchetière Ouest\, Montreal\, Quebec\, H2Z 1C3\, Canada
CATEGORIES:Chinatown House,Exhibition,Launch
ATTACH;FMTTYPE=image/jpeg:https://jiafoundationmtl.org/wp-content/uploads/Instagram_MaisonYR.jpeg
END:VEVENT
BEGIN:VEVENT
DTSTART;TZID=America/Toronto:20250406T130000
DTEND;TZID=America/Toronto:20250406T160000
DTSTAMP:20260419T190846
CREATED:20250327T061621Z
LAST-MODIFIED:20250327T172449Z
UID:2970-1743944400-1743955200@jiafoundationmtl.org
SUMMARY:2026 Action Plan Open House
DESCRIPTION:In 2021\, the City of Montreal adopted the Chinatown Action Plan\, structured around 4 main pillars: quality of life\, commercial vitality\, cultural identity\, and community platforms. As this plan draws to a close\, it’s an opportunity to take stock and\, above all\, to put forward the community’s proposals for the next iteration of this Action Plan.  \n\n\n\nImproving access to social services and affordable housing\, having more green spaces\, creating a business association\, conserving the neighborhood’s cultural heritage: these are just a few of the ideas that are being proposed. If they sound important to you\, now’s your chance to make your voice heard! \n\n\n\nCome discover proposals and voice your concerns at our April 6 Open House. \n\n\n\n1-4 PM at Chinatown House – 116 de la Gauchetière West.
URL:https://jiafoundationmtl.org/event/2026-action-plan-open-house/
LOCATION:CHINATOWN HOUSE – 116 de la Gauchetière Ouest\, 1st floor\, 116 de la Gauchetière Ouest\, Montreal\, Quebec\, H2Z 1C3\, Canada
CATEGORIES:Chinatown House,Consultation
END:VEVENT
BEGIN:VEVENT
DTSTART;TZID=America/Toronto:20250427T140000
DTEND;TZID=America/Toronto:20250427T160000
DTSTAMP:20260419T190846
CREATED:20250327T062323Z
LAST-MODIFIED:20250327T062324Z
UID:2974-1745762400-1745769600@jiafoundationmtl.org
SUMMARY:Art\, Identity\, and the Creative Journey with Carmen Mok
DESCRIPTION:In this artist talk\, Carmen Mok\, a Hong Kong native who moved to Canada to study fine art\, will share her journey of self-discovery as a Chinese Canadian and how her multicultural upbringing has shaped and enriched her illustration career. From pursuing her passion to building a career in children’s book illustration\, she will take you behind the scenes of her book-making process\, offering insights\, practical tips\, and personal stories about both the challenges and joys of her work.  \n\n\n\nApril 27 at 2pm\, at Chinatown House – 116 de la Gauchetière West
URL:https://jiafoundationmtl.org/event/art-identity-and-the-creative-journey-with-carmen-mok/
LOCATION:CHINATOWN HOUSE – 116 de la Gauchetière Ouest\, 1st floor\, 116 de la Gauchetière Ouest\, Montreal\, Quebec\, H2Z 1C3\, Canada
CATEGORIES:Chinatown House,Lecture
ATTACH;FMTTYPE=image/jpeg:https://jiafoundationmtl.org/wp-content/uploads/IMG_1692-Resized.jpg
END:VEVENT
END:VCALENDAR