BEGIN:VCALENDAR
VERSION:2.0
PRODID:-//FONDATION JIA FOUNDATION - ECPv6.15.20//NONSGML v1.0//EN
CALSCALE:GREGORIAN
METHOD:PUBLISH
X-ORIGINAL-URL:https://jiafoundationmtl.org
X-WR-CALDESC:Events for FONDATION JIA FOUNDATION
REFRESH-INTERVAL;VALUE=DURATION:PT1H
X-Robots-Tag:noindex
X-PUBLISHED-TTL:PT1H
BEGIN:VTIMEZONE
TZID:America/Toronto
BEGIN:DAYLIGHT
TZOFFSETFROM:-0500
TZOFFSETTO:-0400
TZNAME:EDT
DTSTART:20240310T070000
END:DAYLIGHT
BEGIN:STANDARD
TZOFFSETFROM:-0400
TZOFFSETTO:-0500
TZNAME:EST
DTSTART:20241103T060000
END:STANDARD
BEGIN:DAYLIGHT
TZOFFSETFROM:-0500
TZOFFSETTO:-0400
TZNAME:EDT
DTSTART:20250309T070000
END:DAYLIGHT
BEGIN:STANDARD
TZOFFSETFROM:-0400
TZOFFSETTO:-0500
TZNAME:EST
DTSTART:20251102T060000
END:STANDARD
BEGIN:DAYLIGHT
TZOFFSETFROM:-0500
TZOFFSETTO:-0400
TZNAME:EDT
DTSTART:20260308T070000
END:DAYLIGHT
BEGIN:STANDARD
TZOFFSETFROM:-0400
TZOFFSETTO:-0500
TZNAME:EST
DTSTART:20261101T060000
END:STANDARD
END:VTIMEZONE
BEGIN:VEVENT
DTSTART;TZID=America/Toronto:20251005T180000
DTEND;TZID=America/Toronto:20251005T200000
DTSTAMP:20260419T175055
CREATED:20250919T145459Z
LAST-MODIFIED:20260205T052534Z
UID:3592-1759687200-1759694400@jiafoundationmtl.org
SUMMARY:Book Launch & Author Talk - Paper Trail to the 1923 Chinese Exclusion Act
DESCRIPTION:Award-winning community historian\, curator and author Catherine Clement will share the findings of her landmark project which excavated stories of what really happened during one of the darkest chapters in Canadian history.Her book\, The Paper Trail to the 1923 Chinese Exclusion Act\, is the first to explore the broad range of “human experiences” of exclusion as revealed through the stories of the many lives it touched. Crowdsourced from the fragments of memories of hundreds of Chinese Canadian families across Canada\, including those from Montréal\, as well as extensive and painstaking research in public and private/family archives\, many stories and images are being shared publicly for the very first time.The pages of her book reveal haunting tales of tragedy\, loss and despair as well as powerful examples of courage\, perseverance\, and resilience. They chronicle the lives of ordinary people caught in extraordinary times. \n\n\n\nDon’t miss this rare opportunity to hear about this incredible public history project and the resulting book. Note: The author’s presentation will be conducted in English\, but whisper French and Chinese translation will be available. \n\n\n\nSunday\, October 56:00 p.m. – 8:00 p.m.MEM – Centres des mémoires montréalaises1210 St Laurent BlvdMontreal\, Quebec H2X 2S5Tickets are free but registration is required.Eventbrite Link
URL:https://jiafoundationmtl.org/event/book-launch-author-talk-paper-trail-to-the-1923-chinese-exclusion-act/
LOCATION:MEM – Centre des mémoires montréalaises\, 1210 St Laurent Blvd\, Montreal\, Québec\, H2X 2S5\, Canada
CATEGORIES:Launch,Lecture
ATTACH;FMTTYPE=image/jpeg:https://jiafoundationmtl.org/wp-content/uploads/Oct-5-Poster-Catherine-Clement-Resized.jpg
END:VEVENT
END:VCALENDAR