BEGIN:VCALENDAR
VERSION:2.0
PRODID:-//FONDATION JIA FOUNDATION - ECPv6.15.20//NONSGML v1.0//EN
CALSCALE:GREGORIAN
METHOD:PUBLISH
X-ORIGINAL-URL:https://jiafoundationmtl.org
X-WR-CALDESC:Events for FONDATION JIA FOUNDATION
REFRESH-INTERVAL;VALUE=DURATION:PT1H
X-Robots-Tag:noindex
X-PUBLISHED-TTL:PT1H
BEGIN:VTIMEZONE
TZID:America/Toronto
BEGIN:DAYLIGHT
TZOFFSETFROM:-0500
TZOFFSETTO:-0400
TZNAME:EDT
DTSTART:20240310T070000
END:DAYLIGHT
BEGIN:STANDARD
TZOFFSETFROM:-0400
TZOFFSETTO:-0500
TZNAME:EST
DTSTART:20241103T060000
END:STANDARD
BEGIN:DAYLIGHT
TZOFFSETFROM:-0500
TZOFFSETTO:-0400
TZNAME:EDT
DTSTART:20250309T070000
END:DAYLIGHT
BEGIN:STANDARD
TZOFFSETFROM:-0400
TZOFFSETTO:-0500
TZNAME:EST
DTSTART:20251102T060000
END:STANDARD
BEGIN:DAYLIGHT
TZOFFSETFROM:-0500
TZOFFSETTO:-0400
TZNAME:EDT
DTSTART:20260308T070000
END:DAYLIGHT
BEGIN:STANDARD
TZOFFSETFROM:-0400
TZOFFSETTO:-0500
TZNAME:EST
DTSTART:20261101T060000
END:STANDARD
END:VTIMEZONE
BEGIN:VEVENT
DTSTART;TZID=America/Toronto:20251122T170000
DTEND;TZID=America/Toronto:20251122T190000
DTSTAMP:20260419T161846
CREATED:20251107T195118Z
LAST-MODIFIED:20260205T052650Z
UID:3766-1763830800-1763838000@jiafoundationmtl.org
SUMMARY:Exhibition Catalogue Launch - Maison Yep-Riopel
DESCRIPTION:What do patriot Augustin-Norbert Morin\, the Chinese freemasons\, and the Yep family have in common?  \n\n\n\nThey all lived at 116-118 de la Gauchetière West\, a building that has witnessed many acts of resistance over the centuries\, the most recent one having led to the building’s designation as a protected heritage site. This fascinating history has been showcased in the JIA Foundation’s inaugural exhibition\, Maison Yep-Riopel: A Layered History of Resistance and Belonging\, which has been displayed at Chinatown House since the end of March 2025.  \n\n\n\nAs the exhibition is nearing its end\, join us for the launch of the official exhibition catalogue\, filled with additional insights about the exhibition’s creation\, testimonies from people involved and visitors\, and recollections from the Fireside chats at the hearth of Chinatown House.  \n\n\n\nThe launch will also feature a discussion between Sandy Yep\, Bernard Vallée\, and Lan Yee\, who all played a role in researching and setting up the exhibition. They will share behind-the-scenes stories about the exhibition and answer all your burning questions. \n\n\n\nLight refreshments will be served. \n\n\n\nIf you would like your very own copy of the catalogue\, it will be available on site to all those who donate 60$ or more to the JIA Foundation. All proceeds will help support JIA’s cultural programming at Chinatown House. \n\n\n\nDate: Saturday\, November 22\, 2025Time: 5pm-7pmAddress: Chinatown House\, 116 De La Gauchetière Ouest
URL:https://jiafoundationmtl.org/event/exhibition-catalogue-launch-maison-yep-riopel/
LOCATION:CHINATOWN HOUSE – 116 de la Gauchetière Ouest\, 1st floor\, 116 de la Gauchetière Ouest\, Montreal\, Quebec\, H2Z 1C3\, Canada
CATEGORIES:Chinatown House,Exhibition,Launch
ATTACH;FMTTYPE=image/png:https://jiafoundationmtl.org/wp-content/uploads/Untitled-design-4.png
ORGANIZER;CN="JIA Foundation":MAILTO:info@jiafoundationmtl.org
END:VEVENT
END:VCALENDAR