BEGIN:VCALENDAR
VERSION:2.0
PRODID:-//FONDATION JIA FOUNDATION - ECPv6.15.20//NONSGML v1.0//EN
CALSCALE:GREGORIAN
METHOD:PUBLISH
X-WR-CALNAME:FONDATION JIA FOUNDATION
X-ORIGINAL-URL:https://jiafoundationmtl.org/fr/
X-WR-CALDESC:Évènements pour FONDATION JIA FOUNDATION
REFRESH-INTERVAL;VALUE=DURATION:PT1H
X-Robots-Tag:noindex
X-PUBLISHED-TTL:PT1H
BEGIN:VTIMEZONE
TZID:America/Toronto
BEGIN:DAYLIGHT
TZOFFSETFROM:-0500
TZOFFSETTO:-0400
TZNAME:EDT
DTSTART:20230312T070000
END:DAYLIGHT
BEGIN:STANDARD
TZOFFSETFROM:-0400
TZOFFSETTO:-0500
TZNAME:EST
DTSTART:20231105T060000
END:STANDARD
BEGIN:DAYLIGHT
TZOFFSETFROM:-0500
TZOFFSETTO:-0400
TZNAME:EDT
DTSTART:20240310T070000
END:DAYLIGHT
BEGIN:STANDARD
TZOFFSETFROM:-0400
TZOFFSETTO:-0500
TZNAME:EST
DTSTART:20241103T060000
END:STANDARD
BEGIN:DAYLIGHT
TZOFFSETFROM:-0500
TZOFFSETTO:-0400
TZNAME:EDT
DTSTART:20250309T070000
END:DAYLIGHT
BEGIN:STANDARD
TZOFFSETFROM:-0400
TZOFFSETTO:-0500
TZNAME:EST
DTSTART:20251102T060000
END:STANDARD
END:VTIMEZONE
BEGIN:VEVENT
DTSTART;TZID=America/Toronto:20241201T100000
DTEND;TZID=America/Toronto:20241201T140000
DTSTAMP:20260421T072249
CREATED:20241128T191951Z
LAST-MODIFIED:20241128T193733Z
UID:2811-1733047200-1733061600@jiafoundationmtl.org
SUMMARY:PORTES OUVERTES - La rue Clark repensée
DESCRIPTION:欢迎参加我们的开放日，一起塑造蒙特利尔唐人街的未来！看看两年来社区引导的规划设计，如何将克拉克街改造成一个充满活力、适宜人居的街区。我们将这条利用率低的街道转变为活跃的社区空间。快来参观设计展览，并与我们分享您的想法！ \n\n\n\nRejoignez-nous pour notre JOURNÉE PORTES OUVERTES et contribuez à façonner l’avenir du Quartier chinois de Montréal ! Découvrez deux ans de planification communautaire pour transformer la rue Clark en un quartier animé et à échelle humaine. Nous redonnons vie à cette rue sous-utilisée pour en faire un espace communautaire vibrant. Venez explorer l’exposition de design et partagez vos idées avec nous !    \n\n\n\n————Projet réalisé par JIA Foundation / Fondation JIA en partenariat avec le Comité logement Ville-Marie et la Table de concertation du faubourg Saint-Laurent
URL:https://jiafoundationmtl.org/fr/event/portes-ouvertes-la-rue-clark-repensee/
LOCATION:Édifice du Service à la Famille Chinoise\, rez de chaussée\, 1088 rue Clark\, Montréal\, Québec\, H2Z1K2\, Canada
CATEGORIES:Consultation
ATTACH;FMTTYPE=image/jpeg:https://jiafoundationmtl.org/wp-content/uploads/clark-street-dec-1-IG.jpg
END:VEVENT
BEGIN:VEVENT
DTSTART;TZID=America/Toronto:20241205T163000
DTEND;TZID=America/Toronto:20241205T180000
DTSTAMP:20260421T072249
CREATED:20241129T040943Z
LAST-MODIFIED:20241129T041423Z
UID:2823-1733416200-1733421600@jiafoundationmtl.org
SUMMARY:Sanctuaire disparu : Photographies d'archives du Quartier chinois de Montréal
DESCRIPTION:À quoi ressemblait le quartier chinois d’autrefois ? Quelles forces ont façonné son changement et son déclin au fil des décennies ? Rejoignez Parker Mah pour une discussion et une séance de visionnage informelle où les participants pourront découvrir des photographies d’archives et de famille provenant de collections institutionnelles et personnelles\, dont certaines sont inédites\, qui racontent la vie quotidienne d’un quartier chinois révolu.   \n\n\n\nParker Mah 馬世聰 est un artiste et travailleur communautaire de quatrième génération\, d’origine toisanaise\, établi à Tio’tia:ke. Il a également travaillé en tant que commissaire et directeur artistique pour deux expositions majeures sur le Quartier chinois\, produites par le MEM.
URL:https://jiafoundationmtl.org/fr/event/sanctuaire-disparu-photographies-darchives-du-quartier-chinois-de-montreal/
LOCATION:Université de Montréal – CETASE – Salle Robert Garry 420-14 (4e étage)\, Pavillon 3744 Jean-Brillant\, Montreal\, Québec\, H3T 1P1\, Canada
CATEGORIES:Conférence,Maison du Quartier chinois
ATTACH;FMTTYPE=image/jpeg:https://jiafoundationmtl.org/wp-content/uploads/UdeM-Poster-3-IMG_8924-Resized.jpg
END:VEVENT
END:VCALENDAR