BEGIN:VCALENDAR
VERSION:2.0
PRODID:-//FONDATION JIA FOUNDATION - ECPv6.15.20//NONSGML v1.0//EN
CALSCALE:GREGORIAN
METHOD:PUBLISH
X-ORIGINAL-URL:https://jiafoundationmtl.org/fr/
X-WR-CALDESC:Évènements pour FONDATION JIA FOUNDATION
REFRESH-INTERVAL;VALUE=DURATION:PT1H
X-Robots-Tag:noindex
X-PUBLISHED-TTL:PT1H
BEGIN:VTIMEZONE
TZID:America/Toronto
BEGIN:DAYLIGHT
TZOFFSETFROM:-0500
TZOFFSETTO:-0400
TZNAME:EDT
DTSTART:20240310T070000
END:DAYLIGHT
BEGIN:STANDARD
TZOFFSETFROM:-0400
TZOFFSETTO:-0500
TZNAME:EST
DTSTART:20241103T060000
END:STANDARD
BEGIN:DAYLIGHT
TZOFFSETFROM:-0500
TZOFFSETTO:-0400
TZNAME:EDT
DTSTART:20250309T070000
END:DAYLIGHT
BEGIN:STANDARD
TZOFFSETFROM:-0400
TZOFFSETTO:-0500
TZNAME:EST
DTSTART:20251102T060000
END:STANDARD
BEGIN:DAYLIGHT
TZOFFSETFROM:-0500
TZOFFSETTO:-0400
TZNAME:EDT
DTSTART:20260308T070000
END:DAYLIGHT
BEGIN:STANDARD
TZOFFSETFROM:-0400
TZOFFSETTO:-0500
TZNAME:EST
DTSTART:20261101T060000
END:STANDARD
END:VTIMEZONE
BEGIN:VEVENT
DTSTART;TZID=America/Toronto:20250116T170000
DTEND;TZID=America/Toronto:20250319T190000
DTSTAMP:20260421T045936
CREATED:20241129T041926Z
LAST-MODIFIED:20250124T062247Z
UID:2835-1737046800-1742410800@jiafoundationmtl.org
SUMMARY:LANCEMENT: Fabriquer et préserver le Quartier chinois: Perceptions\, récits et organisation communautaire
DESCRIPTION:Pendant plus d’un siècle\, les communautés chinoises de la diaspora des Quartiers chinoisont lutté contre des vagues d’effacement en usant d’une constellation de moyens: les associations claniques\, les troupes de danses\, la création d’abris\, les spectacles d’opéra cantonnais\, les écoles de langue\, les résidences pour aîné·e·s\, les temples\, les restaurants et bien plus. Cette exposition fait suite à l’année inaugurale de la Fondation JIA\, consacrée à la défense des intérêts de la communauté\, aux festivals\, à l’art et à la récitation d’histoires\, en parallèle aux trois jours de partage et de mobilisation du deuxième forum Repenser le Quartier chinois. Notre série de conférences et d’expositions vise à créer des ponts entre les organisations communautaires et les communautés universitaires\, offrant une plateforme de discussion sur les mouvements d’évolution et les possibilités futures pour le Quartier chinois.   \n\n\n\nVernissage: 16 janvier\, 17h
URL:https://jiafoundationmtl.org/fr/event/lancement-fabriquer-et-preserver-le-quartier-chinois-perceptions-recits-et-organisation-communautaire/
LOCATION:Salle d’exposition Marius Barbeau\, C-2081/83\, Pavillon Lionel-Groulx\, 3150 Jean-Brillant\, Montréal\, Québec\, H3T1N8\, Canada
CATEGORIES:Exposition,Lancement,Maison du Quartier chinois
ATTACH;FMTTYPE=image/jpeg:https://jiafoundationmtl.org/wp-content/uploads/POSTER-8X11-UdeM-Expo-scaled.jpg
END:VEVENT
BEGIN:VEVENT
DTSTART;TZID=America/Toronto:20250204T163000
DTEND;TZID=America/Toronto:20250204T183000
DTSTAMP:20260421T045936
CREATED:20250204T072449Z
LAST-MODIFIED:20250204T072700Z
UID:2946-1738686600-1738693800@jiafoundationmtl.org
SUMMARY:La collection Wing's: Archiver la mémoire du quartier chinois par les objets et le patrimoine
DESCRIPTION:Découvrez le parcours remarquable de Riopel\, guide professionnel\, muséologue et fondateur d’Objets des Mémoires dans le quartier chinois. Médaillé de l’Assemblée nationale\, Riopel a été honoré pour ses efforts dévoués à la sauvegarde de la mémoire historique du quartier chinois et pour sa contribution significative à l’histoire nationale.  \n\n\n\nGilbert Lee\, propriétaire de la compagnie Wings\, a mandaté Jean-Philippe Riopel pour mettre sur pied et diriger une collection de plus de 1000 objets concernant l’histoire de la compagnie Wings et le Quartier chinois depuis le début du XXe siècle. Cette collection est gérée par le collectif Objets de mémoire – groupe d’action muséologique\, qui rassemble des professionnels du milieu muséal et du patrimoine et est voué à la préservation du patrimoine matériel menacé de disparition.
URL:https://jiafoundationmtl.org/fr/event/la-collection-wings-archiver-la-memoire-du-quartier-chinois-par-les-objets-et-le-patrimoine/
LOCATION:Université de Montréal – Salle C-3061\, Pavillon Jean-Brillant\, 3200 rue Jean Brillant\, 3200 Jean Brillant\, Montreal\, Québec\, Canada
CATEGORIES:Conférence,Maison du Quartier chinois
ATTACH;FMTTYPE=image/jpeg:https://jiafoundationmtl.org/wp-content/uploads/UdeMxJIA-Lecture04-Poster-scaled.jpg
END:VEVENT
BEGIN:VEVENT
DTSTART;TZID=America/Toronto:20250220T173000
DTEND;TZID=America/Toronto:20250220T193000
DTSTAMP:20260421T045936
CREATED:20250327T055139Z
LAST-MODIFIED:20250327T055854Z
UID:2962-1740072600-1740079800@jiafoundationmtl.org
SUMMARY:Révéler la présence et l'Histoire chinoises dans le Quartier chinois perdu de Québec
DESCRIPTION:À partir de la fin du XIXe siècle\, des quartiers chinois se sont développés dans de nombreuses villes canadiennes. Pourtant\, aujourd’hui\, nombre d’entre eux ont disparu\, parfois sans laisser de trace de leur existence. La ville de Québec a abrité l’un de ces quartiers chinois\, aujourd’hui largement oublié. Apparu dans les années 1930 sous la forme d’une petite rue peuplée de résidents chinois\, le quartier chinois s’est développé dans les années 1960 pour devenir un réseau dynamique de restaurants\, d’entreprises et d’institutions à travers la ville. Cependant\, dans les années 1970\, les projets de développement urbain et l’évolution des politiques publiques ont poussé les familles et les entreprises chinoises à s’exiler\, les dispersant dans les banlieues et dans d’autres villes canadiennes. Aujourd’hui\, il ne reste que peu d’éléments physiques du quartier chinois et son histoire est peu documentée. Le quartier chinois de Québec est perdu\, à la fois physiquement et dans la mémoire collective de la ville. Dans cette conférence\, des entretiens avec d’anciens résidents et des recherches dans les archives révèleront l’histoire et les récits d’une communauté dynamique.        \n\n\n\nMadeleine Wong est récemment diplômée du programme de maîtrise en architecture à l’Université de Waterloo. Ses recherches portent sur le rôle des quartier chinois canadiens et des restaurants chinois dans la création d’espaces communautaires et d’appartenance au sin de la ville.
URL:https://jiafoundationmtl.org/fr/event/reveler-la-presence-et-lhistoire-chinoises-dans-le-quartier-chinois-perdu-de-quebec/
LOCATION:MAISON DU QUARTIER CHINOIS – 116 de la Gauchetière Ouest\, rez de chaussée\, 116 de la Gauchetière Ouest\, Montréal\, Québec\, H2Z 1C3\, Canada
CATEGORIES:Conférence,Maison du Quartier chinois
ATTACH;FMTTYPE=image/jpeg:https://jiafoundationmtl.org/wp-content/uploads/IMG_9877-Resized.jpg
END:VEVENT
BEGIN:VEVENT
DTSTART;TZID=America/Toronto:20250228T170000
DTEND;TZID=America/Toronto:20250228T190000
DTSTAMP:20260421T045936
CREATED:20250327T060305Z
LAST-MODIFIED:20250327T060623Z
UID:2968-1740762000-1740769200@jiafoundationmtl.org
SUMMARY:Construire\, remanier\, remodeler: 13 ans de Quartier chinois une série photographique
DESCRIPTION:Morris Lum est un photographe/artiste né à Trinidad dont le travail explore la nature hybride de la communauté sino-canadienne à travers la photographie\, la forme et les pratiques documentaires. Son travail examine également la manière dont l’histoire chinoise est représentée dans les médias et les archives. Le travail de Morris a été exposé et projeté à travers le Canada et les États-Unis. \n\n\n\nIl travaille actuellement sur un projet nord-américain qui porte spécifiquement sur la transformation des quartiers chinois. \n\n\n\nRejoignez Morris Lum pour une discussion sur sa série photographique Chinatown | Tong Yan Gaai qui documente les quartiers chinois à travers le Canada et les États-Unis. Au cours de la dernière décennie\, Morris a concentré son attention sur la fonctionnalité des quartiers chinois et a exploré le contexte générationnel de l’expression de l’identité « chinoise » dans ces enclaves structurelles. Armé d’un appareil photo grand format\, Morris a documenté les quartiers chinois de Victoria\, Vancouver\, Calgary\, Edmonton\, Winnipeg\, Toronto\, Ottawa\, Montréal\, Chicago\, Oakland\, Seattle\, Philadelphie\, San Francisco\, Los Angeles\, Manhattan\, New York et Boston. La conférence donnera un aperçu de la progression de l’ensemble du travail et laissera entrevoir les prochaines étapes de la série. \n\n\n\nCette conférence est la sixième d’une série de six en partenariat avec le Centre d’études asiatiques de l’Université de Montréal. Déjà notre dernière! \n\n\n\nCette conférence est suivie d’une dégustation de thé taiwanais avec la sommelière de thé Lamia El Kalai. \n\n\n\nPassez nous voir le 28 février 2025\, de 17h à 19h\, @ Salle C-3061 (3e étage)\, Pavillon Lionel-Groulx\, 3150 rue Jean-Brillant \n\n\n\nAucune inscription nécessaire!
URL:https://jiafoundationmtl.org/fr/event/construire-remanier-remodeler-13-ans-de-quartier-chinois-une-serie-photographique/
LOCATION:Québec
CATEGORIES:Conférence,Maison du Quartier chinois
ATTACH;FMTTYPE=image/jpeg:https://jiafoundationmtl.org/wp-content/uploads/UdeMxJIA-Lecture06-Poster-Resized.jpg
END:VEVENT
END:VCALENDAR