BEGIN:VCALENDAR
VERSION:2.0
PRODID:-//FONDATION JIA FOUNDATION - ECPv6.15.20//NONSGML v1.0//EN
CALSCALE:GREGORIAN
METHOD:PUBLISH
X-WR-CALNAME:FONDATION JIA FOUNDATION
X-ORIGINAL-URL:https://jiafoundationmtl.org/fr/
X-WR-CALDESC:Évènements pour FONDATION JIA FOUNDATION
REFRESH-INTERVAL;VALUE=DURATION:PT1H
X-Robots-Tag:noindex
X-PUBLISHED-TTL:PT1H
BEGIN:VTIMEZONE
TZID:America/Toronto
BEGIN:DAYLIGHT
TZOFFSETFROM:-0500
TZOFFSETTO:-0400
TZNAME:EDT
DTSTART:20240310T070000
END:DAYLIGHT
BEGIN:STANDARD
TZOFFSETFROM:-0400
TZOFFSETTO:-0500
TZNAME:EST
DTSTART:20241103T060000
END:STANDARD
BEGIN:DAYLIGHT
TZOFFSETFROM:-0500
TZOFFSETTO:-0400
TZNAME:EDT
DTSTART:20250309T070000
END:DAYLIGHT
BEGIN:STANDARD
TZOFFSETFROM:-0400
TZOFFSETTO:-0500
TZNAME:EST
DTSTART:20251102T060000
END:STANDARD
BEGIN:DAYLIGHT
TZOFFSETFROM:-0500
TZOFFSETTO:-0400
TZNAME:EDT
DTSTART:20260308T070000
END:DAYLIGHT
BEGIN:STANDARD
TZOFFSETFROM:-0400
TZOFFSETTO:-0500
TZNAME:EST
DTSTART:20261101T060000
END:STANDARD
END:VTIMEZONE
BEGIN:VEVENT
DTSTART;TZID=America/Toronto:20250330T110000
DTEND;TZID=America/Toronto:20250831T160000
DTSTAMP:20260421T021005
CREATED:20250327T062837Z
LAST-MODIFIED:20250725T202655Z
UID:2984-1743332400-1756656000@jiafoundationmtl.org
SUMMARY:Lancement de l’exposition Maison Yep-Riopel
DESCRIPTION:La Fondation JIA vous invite à sa première exposition dans le nouvel espace de la Chinatown House à partir de ce dimanche 30 mars 2025.  \n\n\n\n« Maison Yep-Riopel : Une histoire entremêlée de résistance et d’appartenance »\, conçue par Karen Cho\, raconte l’incroyable histoire du bâtiment que la Fondation JIA appelle désormais sa maison. JIA a déménagé au rez-de-chaussée de ce bâtiment patrimonial en janvier 2025 et y a depuis commencé sa programmation culturelle et son organisation communautaire au cœur du Quartier chinois.   \n\n\n\nCette exposition est gratuite et sera ouverte au public trois jours par semaine : du vendredi au dimanche\, de 11h à 16h\, d’avril à septembre.
URL:https://jiafoundationmtl.org/fr/event/lancement-de-lexposition-maison-yep-riopel/
LOCATION:MAISON DU QUARTIER CHINOIS – 116 de la Gauchetière Ouest\, rez de chaussée\, 116 de la Gauchetière Ouest\, Montréal\, Québec\, H2Z 1C3\, Canada
CATEGORIES:Exposition,Lancement,Maison du Quartier chinois
ATTACH;FMTTYPE=image/jpeg:https://jiafoundationmtl.org/wp-content/uploads/Instagram_MaisonYR.jpeg
END:VEVENT
BEGIN:VEVENT
DTSTART;TZID=America/Toronto:20250406T130000
DTEND;TZID=America/Toronto:20250406T160000
DTSTAMP:20260421T021005
CREATED:20250327T061621Z
LAST-MODIFIED:20250327T172521Z
UID:2972-1743944400-1743955200@jiafoundationmtl.org
SUMMARY:Portes ouvertes Plan d’action 2026
DESCRIPTION:En 2021\, la Ville de Montréal a adopté un Plan d’action pour le Quartier chinois\, concentré autour de 4 axes : la qualité de vie\, la vitalité commerciale\, l’identité culturelle et l’établissement d’une plateforme communautaire. Alors que ce plan vient à terme\, c’est l’occasion d’en faire un bilan et surtout\, de mettre de l’avant les propositions de la communauté pour la prochaine itération de ce Plan d’action.  \n\nAméliorer l’accès aux services sociaux et aux logements abordables\, verdir le quartier\, créer une société de développement commerciale (SDC)\, conserver l’héritage culturel du quartier : voici quelques-unes des propositions avancées. Si elles vous parlent\, alors c’est l’occasion de vous faire entendre! \n\nVenez découvrir des propositions et exprimer les vôtres lors de nos Portes ouvertes du 6 avril \n\n13h-16h à la Maison du Quartier chinois – 116 de la Gauchetière Ouest
URL:https://jiafoundationmtl.org/fr/event/portes-ouvertes-plan-daction-2026/
LOCATION:MAISON DU QUARTIER CHINOIS – 116 de la Gauchetière Ouest\, rez de chaussée\, 116 de la Gauchetière Ouest\, Montréal\, Québec\, H2Z 1C3\, Canada
CATEGORIES:Consultation,Maison du Quartier chinois
END:VEVENT
BEGIN:VEVENT
DTSTART;TZID=America/Toronto:20250427T140000
DTEND;TZID=America/Toronto:20250427T160000
DTSTAMP:20260421T021005
CREATED:20250327T062323Z
LAST-MODIFIED:20250327T062505Z
UID:2978-1745762400-1745769600@jiafoundationmtl.org
SUMMARY:Art\, Identité\, et le voyage créatif avec Carmen Mok
DESCRIPTION:Lors de cette présentation\, Carmen Mok\, une artiste native de Hong Kong ayant déménagé au Canada pour étudier les beaux-arts\, partagera son parcours de découverte de soi en tant que Canadienne d’origine chinoise et expliquera comment son éducation multiculturelle a façonné et enrichi sa carrière d’illustratrice. De la décision de suivre sa passion jusqu’à sa carrière dans l’illustration de livres pour enfants\, elle vous emmènera dans les coulisses de son processus de fabrication de livres\, tout en offrant des idées\, des conseils pratiques et des histoires personnelles sur les défis et les joies de son travail.   \n\n\n\nle 27 avril à 14h\, à la Maison du Quartier chinois – 116 de la Gauchetière OuestCet événement aura lieu en anglais.
URL:https://jiafoundationmtl.org/fr/event/art-identite-et-le-voyage-creatif-avec-carmen-mok/
LOCATION:MAISON DU QUARTIER CHINOIS – 116 de la Gauchetière Ouest\, rez de chaussée\, 116 de la Gauchetière Ouest\, Montréal\, Québec\, H2Z 1C3\, Canada
CATEGORIES:Conférence,Maison du Quartier chinois
ATTACH;FMTTYPE=image/jpeg:https://jiafoundationmtl.org/wp-content/uploads/IMG_1692-Resized.jpg
END:VEVENT
END:VCALENDAR