BEGIN:VCALENDAR
VERSION:2.0
PRODID:-//FONDATION JIA FOUNDATION - ECPv6.15.20//NONSGML v1.0//EN
CALSCALE:GREGORIAN
METHOD:PUBLISH
X-WR-CALNAME:FONDATION JIA FOUNDATION
X-ORIGINAL-URL:https://jiafoundationmtl.org/fr/
X-WR-CALDESC:Évènements pour FONDATION JIA FOUNDATION
REFRESH-INTERVAL;VALUE=DURATION:PT1H
X-Robots-Tag:noindex
X-PUBLISHED-TTL:PT1H
BEGIN:VTIMEZONE
TZID:America/Toronto
BEGIN:DAYLIGHT
TZOFFSETFROM:-0500
TZOFFSETTO:-0400
TZNAME:EDT
DTSTART:20240310T070000
END:DAYLIGHT
BEGIN:STANDARD
TZOFFSETFROM:-0400
TZOFFSETTO:-0500
TZNAME:EST
DTSTART:20241103T060000
END:STANDARD
BEGIN:DAYLIGHT
TZOFFSETFROM:-0500
TZOFFSETTO:-0400
TZNAME:EDT
DTSTART:20250309T070000
END:DAYLIGHT
BEGIN:STANDARD
TZOFFSETFROM:-0400
TZOFFSETTO:-0500
TZNAME:EST
DTSTART:20251102T060000
END:STANDARD
BEGIN:DAYLIGHT
TZOFFSETFROM:-0500
TZOFFSETTO:-0400
TZNAME:EDT
DTSTART:20260308T070000
END:DAYLIGHT
BEGIN:STANDARD
TZOFFSETFROM:-0400
TZOFFSETTO:-0500
TZNAME:EST
DTSTART:20261101T060000
END:STANDARD
END:VTIMEZONE
BEGIN:VEVENT
DTSTART;TZID=America/Toronto:20250330T110000
DTEND;TZID=America/Toronto:20250831T160000
DTSTAMP:20260420T215130
CREATED:20250327T062837Z
LAST-MODIFIED:20250725T202655Z
UID:2984-1743332400-1756656000@jiafoundationmtl.org
SUMMARY:Lancement de l’exposition Maison Yep-Riopel
DESCRIPTION:La Fondation JIA vous invite à sa première exposition dans le nouvel espace de la Chinatown House à partir de ce dimanche 30 mars 2025.  \n\n\n\n« Maison Yep-Riopel : Une histoire entremêlée de résistance et d’appartenance »\, conçue par Karen Cho\, raconte l’incroyable histoire du bâtiment que la Fondation JIA appelle désormais sa maison. JIA a déménagé au rez-de-chaussée de ce bâtiment patrimonial en janvier 2025 et y a depuis commencé sa programmation culturelle et son organisation communautaire au cœur du Quartier chinois.   \n\n\n\nCette exposition est gratuite et sera ouverte au public trois jours par semaine : du vendredi au dimanche\, de 11h à 16h\, d’avril à septembre.
URL:https://jiafoundationmtl.org/fr/event/lancement-de-lexposition-maison-yep-riopel/
LOCATION:MAISON DU QUARTIER CHINOIS – 116 de la Gauchetière Ouest\, rez de chaussée\, 116 de la Gauchetière Ouest\, Montréal\, Québec\, H2Z 1C3\, Canada
CATEGORIES:Exposition,Lancement,Maison du Quartier chinois
ATTACH;FMTTYPE=image/jpeg:https://jiafoundationmtl.org/wp-content/uploads/Instagram_MaisonYR.jpeg
END:VEVENT
BEGIN:VEVENT
DTSTART;TZID=America/Toronto:20250503T130000
DTEND;TZID=America/Toronto:20250816T150000
DTSTAMP:20260420T215130
CREATED:20250530T040000Z
LAST-MODIFIED:20260205T052510Z
UID:3240-1746277200-1755356400@jiafoundationmtl.org
SUMMARY:Au bord du foyer avec Sandy Yep & JP Riopel
DESCRIPTION:Au bord du foyer avec Sandy Yep & JP Riopel Rejoignez Sandy Yep et/ou JP Riopel—dont les histoires familiales sont intrinsèquement liées au bâtiment du 116 de la Gauchetière O.—pour une discussion sur l’héritage\, les histoires et la présence de leurs familles respectives dans le Quartier chinois\, dans le cadre de la nouvelle exposition Maison Yep-Riopel. Prenant place dans la maison ancestrale de la famille Yep\, cette exposition retrace les différentes époques qu’a traversées le bâtiment\, depuis sa première occupation par l’arrière-grand-père entrepreneur de Sandy\, jusqu’à sa récente acquisition par JP\, témoignant de l’histoire de résistance communautaire contre le racisme systémique et la ségrégation. Admission gratuite. Venez prendre le thé et jaser avec Sandy et JP tout en visitant l’exposition Maison Yep-Riopel.    \n\n\n\nDe 13-15h à la Maison du Quartier chinois (116\, rue de la Gauchetière O.) le 3 mai\, 14 juin\, 12 juillet\, et 16 août.
URL:https://jiafoundationmtl.org/fr/event/au-bord-du-foyer-avec-sandy-yep-jp-riopel/
LOCATION:MAISON DU QUARTIER CHINOIS – 116 de la Gauchetière Ouest\, rez de chaussée\, 116 de la Gauchetière Ouest\, Montréal\, Québec\, H2Z 1C3\, Canada
CATEGORIES:Conférence,Exposition,Maison du Quartier chinois
ATTACH;FMTTYPE=image/jpeg:https://jiafoundationmtl.org/wp-content/uploads/IMG_3815.jpg
END:VEVENT
BEGIN:VEVENT
DTSTART;TZID=America/Toronto:20250712T100000
DTEND;TZID=America/Toronto:20250712T230000
DTSTAMP:20260420T215130
CREATED:20250711T173623Z
LAST-MODIFIED:20250711T174247Z
UID:3493-1752314400-1752361200@jiafoundationmtl.org
SUMMARY:Horaire de la Journée du Quartier chinois
DESCRIPTION:Jetez un coup d’oeil à l’horaire complet de la Journée du Quartier chinois 2025! \n\n\nDes activités ont lieu partout à travers le Quartier chinois ce samedi. \n\n\n\nQu’il s’agisse d’ateliers de jardinage\, de danse du lion\, de visites d’associations familiales\, d’un paradis gastronomique\, de micros ouverts ou de visites sur la justice sociale\, il y a une activité pour tout le monde. \n\n\n\n \n\n\n\nJIA organisera trois activités à la Maison du Quartier chinois\, au 116 de la Gauchetière O : \n\n\n\n\nLancement de deux plans pour le développement équitable du Quartier chinois (à partir de 11h30)\n\n\n\nDiscussion Au bord du foyer avec Sandy Yep (à partir de 13h00)\n\n\n\nLancement du catalogue chinois de l’exposition Maison Yep-Riopel (toute la journée\, de 11h00 à 16h00)\n\n\n\n\nL’entrée est gratuite\, comme toujours. Venez avec vos amis et votre famille !
URL:https://jiafoundationmtl.org/fr/event/horaire-de-la-journee-du-quartier-chinois/
LOCATION:MAISON DU QUARTIER CHINOIS – 116 de la Gauchetière Ouest\, rez de chaussée\, 116 de la Gauchetière Ouest\, Montréal\, Québec\, H2Z 1C3\, Canada
CATEGORIES:Conférence,Festival
ATTACH;FMTTYPE=image/png:https://jiafoundationmtl.org/wp-content/uploads/Chinatown-Day-2025-Poster.png
END:VEVENT
BEGIN:VEVENT
DTSTART;TZID=America/Toronto:20250712T130000
DTEND;TZID=America/Toronto:20250712T150000
DTSTAMP:20260420T215130
CREATED:20250710T225935Z
LAST-MODIFIED:20250711T165052Z
UID:3483-1752325200-1752332400@jiafoundationmtl.org
SUMMARY:Journée du Quartier chinois : Discussion Au bord du foyer
DESCRIPTION:Au bord du foyer avec Sandy YepRejoignez Sandy Yep — dont l’histoire familiale est intrinsèquement liée au bâtiment du 116 de la Gauchetière O.— pour une discussion sur l’héritage\, les histoires et la présence de sa famille dans le Quartier chinois\, dans le cadre de la nouvelle exposition Maison Yep-Riopel. Prenant place dans la maison ancestrale de la famille Yep\, cette exposition retrace les différentes époques qu’a traversées le bâtiment\, depuis sa première occupation par l’arrière-grand-père entrepreneur de Sandy\, jusqu’à sa récente acquisition par JP Riopel\, témoignant de l’histoire de résistance communautaire contre le racisme systémique et la ségrégation.    De 13h à 15h\, à la Maison du Quartier chinois au 116 rue de la Gauchetière O.\, le 12 juillet 2025._____________________跟Sandy Yep的爐邊閒談歡迎加入 Sandy Yep 的爐邊閒談。 他及JP Riopel 的故事和名字與位於De La Gauchetière 116號的建築密不可分。家基金會的展覽 “Maison Yep-Riopel” (祖屋) 在葉 (Yep) 家族的祖屋中展出，通過講述這座建築所經歷的不同時代\, 從 Sandy 的曾祖父作爲企業家最早入駐此地，到 JP 最近對其的保護性收購過程。本次展覽勾勒出這棟建築在唐人街社區帶領下頑強抗擊種族主義與種族隔離的歷史畫卷。Sandy 將分享他的家族傳承、個人經歷，以及他在唐人街中的歸屬感。免費參觀。請來喝點茶，跟 Sandy 和家基金會成員聊天，同時參觀滿華庭。2025 年 7 月 12 日下午 1 點至 3 點，滿華庭，116 rue de la Gauchetière O. \n\n\n\n\n_____________________ \n\n\n跟Sandy Yep的炉边闲谈 \n\n欢迎加入 Sandy Yep 的炉边闲谈。 他及JP Riopel 的故事和名字与位于De La Gauchetière 116号的建筑密不可分。家基金会的展览 “Maison Yep-Riopel” (祖屋) 在叶 (Yep) 家族的祖屋中展出，通过讲述这座建筑所经历的不同时代\, 从 Sandy 的曾祖父作为企业家最早入驻此地，到 JP 最近对其的保护性收购过程。本次展览勾勒出这栋建筑在唐人街社区带领下顽强抗击种族主义与种族隔离的历史画卷。Sandy 将分享他的家族传承、个人经历，以及他在唐人街中的归属感。 \n\n免费参观。请来喝点茶，跟 Sandy 和家基金会成员聊天，并参观满华庭。 \n\n2025 年 7 月 12 日下午 1 点至 3 点，蒙华庭，116 rue de la Gauchetière O.
URL:https://jiafoundationmtl.org/fr/event/journee-du-quartier-chinois-discussion-au-bord-du-foyer/
LOCATION:MAISON DU QUARTIER CHINOIS – 116 de la Gauchetière Ouest\, rez de chaussée\, 116 de la Gauchetière Ouest\, Montréal\, Québec\, H2Z 1C3\, Canada
CATEGORIES:Exposition,Maison du Quartier chinois
ATTACH;FMTTYPE=image/png:https://jiafoundationmtl.org/wp-content/uploads/Chinese-traditional-1.png
END:VEVENT
END:VCALENDAR