BEGIN:VCALENDAR
VERSION:2.0
PRODID:-//FONDATION JIA FOUNDATION - ECPv6.15.20//NONSGML v1.0//EN
CALSCALE:GREGORIAN
METHOD:PUBLISH
X-WR-CALNAME:FONDATION JIA FOUNDATION
X-ORIGINAL-URL:https://jiafoundationmtl.org/fr/
X-WR-CALDESC:Évènements pour FONDATION JIA FOUNDATION
REFRESH-INTERVAL;VALUE=DURATION:PT1H
X-Robots-Tag:noindex
X-PUBLISHED-TTL:PT1H
BEGIN:VTIMEZONE
TZID:America/Toronto
BEGIN:DAYLIGHT
TZOFFSETFROM:-0500
TZOFFSETTO:-0400
TZNAME:EDT
DTSTART:20240310T070000
END:DAYLIGHT
BEGIN:STANDARD
TZOFFSETFROM:-0400
TZOFFSETTO:-0500
TZNAME:EST
DTSTART:20241103T060000
END:STANDARD
BEGIN:DAYLIGHT
TZOFFSETFROM:-0500
TZOFFSETTO:-0400
TZNAME:EDT
DTSTART:20250309T070000
END:DAYLIGHT
BEGIN:STANDARD
TZOFFSETFROM:-0400
TZOFFSETTO:-0500
TZNAME:EST
DTSTART:20251102T060000
END:STANDARD
BEGIN:DAYLIGHT
TZOFFSETFROM:-0500
TZOFFSETTO:-0400
TZNAME:EDT
DTSTART:20260308T070000
END:DAYLIGHT
BEGIN:STANDARD
TZOFFSETFROM:-0400
TZOFFSETTO:-0500
TZNAME:EST
DTSTART:20261101T060000
END:STANDARD
END:VTIMEZONE
BEGIN:VEVENT
DTSTART;TZID=America/Toronto:20251122T170000
DTEND;TZID=America/Toronto:20251122T190000
DTSTAMP:20260420T154340
CREATED:20251107T195118Z
LAST-MODIFIED:20251112T191753Z
UID:3773-1763830800-1763838000@jiafoundationmtl.org
SUMMARY:Lancement du catalogue d'exposition - La maison Yep-Riopel
DESCRIPTION:Qu’ont en commun le patriote Augustin-Norbert Morin\, les francs-maçons chinois et la famille Yep?  \n\n\n\nIls ont tous été basés au 116-118 de la Gauchetière Ouest\, un bâtiment qui a été le théâtre de nombreuses résistances à travers les siècles\, dont la plus récente lui a valu le statut de site patrimonial protégé. Cette fascinante histoire a été mise en lumière à travers l’exposition Maison Yep-Riopel: une histoire entremêlée de résistance et d’appartenance\, à l’affiche à la Maison du Quartier chinois depuis le mois de mars 2025.   \n\n\n\nAlors que l’exposition tire à sa fin\, joignez-vous à nous pour le lancement du catalogue d’exposition officiel\, qui contient une foule de contenu supplémentaire sur la création de l’exposition\, de témoignages de personnes impliquées et de visiteur-euses\, ainsi que d’échanges tirés des discussions Au bord du foyer à la Maison du Quartier chinois.  \n\n\n\nLe lancement sera suivi d’une discussion entre Sandy Yep\, Bernard Vallée et Lan Yee\, qui ont tous-tes participé au processus de création et de montage de l’exposition et qui\, en plus de partager leurs histoires des coulisses de l’exposition\, pourront répondre à toutes vos questions brûlantes.  \n\n\n\nDes rafraîchissements légers seront servis. \n\n\n\nPour vous procurer le catalogue d’exposition\, il sera disponible sur place pour les personnes qui souhaitent faire un don de 60$ ou plus à la Fondation JIA. Tous les dons serviront à assurer la continuation de notre programmation culturelle à la Maison du Quartier chinois. \n\n\n\nDate: Samedi\, 22 novembre 2025Heure: 17h-19hAdresse: Maison du Quartier chinois\, 116 De La Gauchetière Ouest
URL:https://jiafoundationmtl.org/fr/event/lancement-du-catalogue-dexposition-la-maison-yep-riopel/
LOCATION:MAISON DU QUARTIER CHINOIS – 116 de la Gauchetière Ouest\, rez de chaussée\, 116 de la Gauchetière Ouest\, Montréal\, Québec\, H2Z 1C3\, Canada
CATEGORIES:Exposition,Lancement
ATTACH;FMTTYPE=image/png:https://jiafoundationmtl.org/wp-content/uploads/Untitled-design-4.png
ORGANIZER;CN="JIA Foundation":MAILTO:info@jiafoundationmtl.org
END:VEVENT
END:VCALENDAR